BEGIN:VCALENDAR
VERSION:2.0
PRODID:-//Altius Mind Institute - ECPv6.11.0.1//NONSGML v1.0//EN
CALSCALE:GREGORIAN
METHOD:PUBLISH
X-ORIGINAL-URL:https://www.altiusmindinstitute.com
X-WR-CALDESC:Events for Altius Mind Institute
REFRESH-INTERVAL;VALUE=DURATION:PT1H
X-Robots-Tag:noindex
X-PUBLISHED-TTL:PT1H
BEGIN:VTIMEZONE
TZID:Europe/Athens
BEGIN:DAYLIGHT
TZOFFSETFROM:+0200
TZOFFSETTO:+0300
TZNAME:EEST
DTSTART:20250330T010000
END:DAYLIGHT
BEGIN:STANDARD
TZOFFSETFROM:+0300
TZOFFSETTO:+0200
TZNAME:EET
DTSTART:20251026T010000
END:STANDARD
BEGIN:DAYLIGHT
TZOFFSETFROM:+0200
TZOFFSETTO:+0300
TZNAME:EEST
DTSTART:20260329T010000
END:DAYLIGHT
BEGIN:STANDARD
TZOFFSETFROM:+0300
TZOFFSETTO:+0200
TZNAME:EET
DTSTART:20261025T010000
END:STANDARD
END:VTIMEZONE
BEGIN:VTIMEZONE
TZID:UTC
BEGIN:STANDARD
TZOFFSETFROM:+0000
TZOFFSETTO:+0000
TZNAME:UTC
DTSTART:20250101T000000
END:STANDARD
END:VTIMEZONE
BEGIN:VEVENT
DTSTART;TZID=Europe/Athens:20251120T183000
DTEND;TZID=Europe/Athens:20251120T193000
DTSTAMP:20260423T063312
CREATED:20241121T134617Z
LAST-MODIFIED:20250114T155342Z
UID:7039-1763663400-1763667000@www.altiusmindinstitute.com
SUMMARY:"Η ΗΧΩ ΤΟΥ ΠΑΡΕΛΘΟΝΤΟΣ: ΠΩΣ ΤΟ ΤΡΑΥΜΑ ΤΗΣ ΠΑΙΔΙΚΗΣ ΗΛΙΚΙΑΣ ΔΙΑΜΟΡΦΩΝΕΙ ΤΗ ΖΩΗ ΜΑΣ" ΔΙΑΔΙΚΤΥΑΚΟ ΣΕΜΙΝΑΡΙΟ
DESCRIPTION:ΣΕΜΙΝΑΡΙΟ ΠΡΩΤΩΝ ΒΟΗΘΕΙΩΝ ΨΥΧΙΚΗΣ ΥΓΕΙΑΣ		\n				\n				\n				\n			«Δείξε Κατανόηση\, Πρόσφερε Στήριξη\, Ενίσχυσε την Ανθεκτικότητα»		\n				\n				\n				\n							Το Altius Mind Institute σε συνεργασία με τον Όμιλο Ψυχολογίας του Πανεπιστημίου Κύπρου διοργανώνει σεμινάριο με θέμα «Πρώτες Βοήθειες Ψυχικής Υγείας» την Δευτέρα 18/11/2024 και ώρα 20:30-22:30 στο Πανεπιστήμιο Κύπρου. Μάθε πώς οι Πρώτες Βοήθειες Ψυχικής Υγείας μπορούν να σε βοηθήσουν να προσφέρεις ουσιαστική στήριξη σε δύσκολες στιγμές\, ενδυναμώνοντας όσους το έχουν ανάγκη. 						\n				\n				\n				\n			Πληροφορίες		\n				\n				\n				\n							Τοποθεσία: Πανεπιστήμιο Κύπρου Ημερομηνία: 18/11/2024 στις 20:30 Διάρκεια: 2 ώρες Κόστος συμμετοχής: Δωρεάν Για δήλωση συμμετοχής\, στείλτε email στο psyclub@ucy.ac.cy 						\n				\n				\n				\n			Ομιλήτρια		\n				\n				\n						\n					\n			\n						\n				\n																										\n				\n					\n		\n				\n			\n						\n				\n							Η Κατερίνα Κακουλάκη είναι αδειούχος εκπαιδευτική/σχολική ψυχολόγος στην Κύπρο και την Ελλάδα\, με μεταπτυχιακό στην Εκπαιδευτική/Σχολική και Εφαρμοσμένη Παιδοψυχολογία από το Πανεπιστήμιο Κύπρου. Ειδικεύεται στην ψυχολογική υποστήριξη παιδιών\, εφήβων και οικογενειών\, χρησιμοποιώντας προσεγγίσεις όπως η συστημική\, η CBT\, η ACT και η παιγνιοθεραπεία. Έχει εργαστεί σε διάφορους οργανισμούς και έχει ολοκληρώσει πρακτική στο Υπουργείο Παιδείας\, παρέχοντας υπηρεσίες σε σχολεία. Τα ερευνητικά της ενδιαφέροντα περιλαμβάνουν τη διαχείριση διατροφικών διαταραχών και την ψυχολογική ευελιξία. Διαθέτει εξειδίκευση σε τομείς όπως η ΔΕΠΥ\, οι μαθησιακές δυσκολίες\, το αυτιστικό φάσμα\, το άγχος και η κατάθλιψη. Διαβάστε περισσότερα
URL:https://www.altiusmindinstitute.com/event/webinar-i-ixo-tou-parelthontos-pos-to-trauma-tis-paidikis-ilikias-diomorfoni-ti-zoi-mas/
LOCATION:Online via ZOOM
ATTACH;FMTTYPE=image/png:https://www.altiusmindinstitute.com/wp-content/uploads/2024/11/i-ixo-tou-parelthontos-webinar.png
END:VEVENT
BEGIN:VEVENT
DTSTART;TZID=Europe/Athens:20251125T183000
DTEND;TZID=Europe/Athens:20251125T193000
DTSTAMP:20260423T063313
CREATED:20241121T131526Z
LAST-MODIFIED:20250114T155322Z
UID:7034-1764095400-1764099000@www.altiusmindinstitute.com
SUMMARY:"ΠΙΣΩ ΑΠΟ ΚΛΕΙΣΤΕΣ ΠΟΡΤΕΣ: ΚΑΤΑΝΟΗΣΗ ΤΟΥ ΚΥΚΛΟΥ ΤΗΣ ΚΑΚΟΠΟΙΗΣΗΣ" ΔΙΑΔΙΚΤΥΑΚΟ ΣΕΜΙΝΑΡΙΟ
DESCRIPTION:ΣΕΜΙΝΑΡΙΟ ΠΡΩΤΩΝ ΒΟΗΘΕΙΩΝ ΨΥΧΙΚΗΣ ΥΓΕΙΑΣ		\n				\n				\n				\n			«Δείξε Κατανόηση\, Πρόσφερε Στήριξη\, Ενίσχυσε την Ανθεκτικότητα»		\n				\n				\n				\n							Το Altius Mind Institute σε συνεργασία με τον Όμιλο Ψυχολογίας του Πανεπιστημίου Κύπρου διοργανώνει σεμινάριο με θέμα «Πρώτες Βοήθειες Ψυχικής Υγείας» την Δευτέρα 18/11/2024 και ώρα 20:30-22:30 στο Πανεπιστήμιο Κύπρου. Μάθε πώς οι Πρώτες Βοήθειες Ψυχικής Υγείας μπορούν να σε βοηθήσουν να προσφέρεις ουσιαστική στήριξη σε δύσκολες στιγμές\, ενδυναμώνοντας όσους το έχουν ανάγκη. 						\n				\n				\n				\n			Πληροφορίες		\n				\n				\n				\n							Τοποθεσία: Πανεπιστήμιο Κύπρου Ημερομηνία: 18/11/2024 στις 20:30 Διάρκεια: 2 ώρες Κόστος συμμετοχής: Δωρεάν Για δήλωση συμμετοχής\, στείλτε email στο psyclub@ucy.ac.cy 						\n				\n				\n				\n			Ομιλήτρια		\n				\n				\n						\n					\n			\n						\n				\n																										\n				\n					\n		\n				\n			\n						\n				\n							Η Κατερίνα Κακουλάκη είναι αδειούχος εκπαιδευτική/σχολική ψυχολόγος στην Κύπρο και την Ελλάδα\, με μεταπτυχιακό στην Εκπαιδευτική/Σχολική και Εφαρμοσμένη Παιδοψυχολογία από το Πανεπιστήμιο Κύπρου. Ειδικεύεται στην ψυχολογική υποστήριξη παιδιών\, εφήβων και οικογενειών\, χρησιμοποιώντας προσεγγίσεις όπως η συστημική\, η CBT\, η ACT και η παιγνιοθεραπεία. Έχει εργαστεί σε διάφορους οργανισμούς και έχει ολοκληρώσει πρακτική στο Υπουργείο Παιδείας\, παρέχοντας υπηρεσίες σε σχολεία. Τα ερευνητικά της ενδιαφέροντα περιλαμβάνουν τη διαχείριση διατροφικών διαταραχών και την ψυχολογική ευελιξία. Διαθέτει εξειδίκευση σε τομείς όπως η ΔΕΠΥ\, οι μαθησιακές δυσκολίες\, το αυτιστικό φάσμα\, το άγχος και η κατάθλιψη. Διαβάστε περισσότερα
URL:https://www.altiusmindinstitute.com/event/webinar-piso-apo-kleistes-portes-katanoisi-tou-kyklou-tis-kakopoiisis/
LOCATION:Online via ZOOM
ATTACH;FMTTYPE=image/png:https://www.altiusmindinstitute.com/wp-content/uploads/2024/11/piso-apo-kleistes-portes-webinar.png
END:VEVENT
BEGIN:VEVENT
DTSTART;TZID=UTC:20251205T180000
DTEND;TZID=UTC:20251205T190000
DTSTAMP:20260423T063313
CREATED:20250828T130335Z
LAST-MODIFIED:20250901T092415Z
UID:8823-1764957600-1764961200@www.altiusmindinstitute.com
SUMMARY:"ΜΕΓΑΛΩΝΟΝΤΑΣ ΕΦΗΒΟΥΣ: ΣΥΝΔΕΣΗ ΑΝΤΙ ΕΛΕΓΧΟΥ" ΔΙΑΔΙΚΤΥΑΚΟ ΣΕΜΙΝΑΡΙΟ
DESCRIPTION:ΣΕΜΙΝΑΡΙΟ ΠΡΩΤΩΝ ΒΟΗΘΕΙΩΝ ΨΥΧΙΚΗΣ ΥΓΕΙΑΣ		\n				\n				\n				\n			«Δείξε Κατανόηση\, Πρόσφερε Στήριξη\, Ενίσχυσε την Ανθεκτικότητα»		\n				\n				\n				\n							Το Altius Mind Institute σε συνεργασία με τον Όμιλο Ψυχολογίας του Πανεπιστημίου Κύπρου διοργανώνει σεμινάριο με θέμα «Πρώτες Βοήθειες Ψυχικής Υγείας» την Δευτέρα 18/11/2024 και ώρα 20:30-22:30 στο Πανεπιστήμιο Κύπρου. Μάθε πώς οι Πρώτες Βοήθειες Ψυχικής Υγείας μπορούν να σε βοηθήσουν να προσφέρεις ουσιαστική στήριξη σε δύσκολες στιγμές\, ενδυναμώνοντας όσους το έχουν ανάγκη. 						\n				\n				\n				\n			Πληροφορίες		\n				\n				\n				\n							Τοποθεσία: Πανεπιστήμιο Κύπρου Ημερομηνία: 18/11/2024 στις 20:30 Διάρκεια: 2 ώρες Κόστος συμμετοχής: Δωρεάν Για δήλωση συμμετοχής\, στείλτε email στο psyclub@ucy.ac.cy 						\n				\n				\n				\n			Ομιλήτρια		\n				\n				\n						\n					\n			\n						\n				\n																										\n				\n					\n		\n				\n			\n						\n				\n							Η Κατερίνα Κακουλάκη είναι αδειούχος εκπαιδευτική/σχολική ψυχολόγος στην Κύπρο και την Ελλάδα\, με μεταπτυχιακό στην Εκπαιδευτική/Σχολική και Εφαρμοσμένη Παιδοψυχολογία από το Πανεπιστήμιο Κύπρου. Ειδικεύεται στην ψυχολογική υποστήριξη παιδιών\, εφήβων και οικογενειών\, χρησιμοποιώντας προσεγγίσεις όπως η συστημική\, η CBT\, η ACT και η παιγνιοθεραπεία. Έχει εργαστεί σε διάφορους οργανισμούς και έχει ολοκληρώσει πρακτική στο Υπουργείο Παιδείας\, παρέχοντας υπηρεσίες σε σχολεία. Τα ερευνητικά της ενδιαφέροντα περιλαμβάνουν τη διαχείριση διατροφικών διαταραχών και την ψυχολογική ευελιξία. Διαθέτει εξειδίκευση σε τομείς όπως η ΔΕΠΥ\, οι μαθησιακές δυσκολίες\, το αυτιστικό φάσμα\, το άγχος και η κατάθλιψη. Διαβάστε περισσότερα
URL:https://www.altiusmindinstitute.com/event/megalonontas-efivous-sindesi-andi-elegxou/
LOCATION:Online via ZOOM
ATTACH;FMTTYPE=image/png:https://www.altiusmindinstitute.com/wp-content/uploads/2025/08/Μεγαλώνοντας-εφήβους.png
END:VEVENT
BEGIN:VEVENT
DTSTART;TZID=Europe/Athens:20251211T183000
DTEND;TZID=Europe/Athens:20251211T193000
DTSTAMP:20260423T063313
CREATED:20241121T141252Z
LAST-MODIFIED:20250114T155241Z
UID:7052-1765477800-1765481400@www.altiusmindinstitute.com
SUMMARY:"Η ΜΗΤΡΟΤΗΤΑ ΝΩΡΙΣ: ΑΝΗΛΙΚΕΣ ΜΗΤΕΡΕΣ - ΔΙΚΑΙΩΜΑΤΑ\, ΘΕΡΑΠΕΙΑ ΚΑΙ ΣΤΗΡΙΞΗ" ΔΙΑΔΙΚΤΥΑΚΟ ΣΕΜΙΝΑΡΙΟ
DESCRIPTION:ΣΕΜΙΝΑΡΙΟ ΠΡΩΤΩΝ ΒΟΗΘΕΙΩΝ ΨΥΧΙΚΗΣ ΥΓΕΙΑΣ		\n				\n				\n				\n			«Δείξε Κατανόηση\, Πρόσφερε Στήριξη\, Ενίσχυσε την Ανθεκτικότητα»		\n				\n				\n				\n							Το Altius Mind Institute σε συνεργασία με τον Όμιλο Ψυχολογίας του Πανεπιστημίου Κύπρου διοργανώνει σεμινάριο με θέμα «Πρώτες Βοήθειες Ψυχικής Υγείας» την Δευτέρα 18/11/2024 και ώρα 20:30-22:30 στο Πανεπιστήμιο Κύπρου. Μάθε πώς οι Πρώτες Βοήθειες Ψυχικής Υγείας μπορούν να σε βοηθήσουν να προσφέρεις ουσιαστική στήριξη σε δύσκολες στιγμές\, ενδυναμώνοντας όσους το έχουν ανάγκη. 						\n				\n				\n				\n			Πληροφορίες		\n				\n				\n				\n							Τοποθεσία: Πανεπιστήμιο Κύπρου Ημερομηνία: 18/11/2024 στις 20:30 Διάρκεια: 2 ώρες Κόστος συμμετοχής: Δωρεάν Για δήλωση συμμετοχής\, στείλτε email στο psyclub@ucy.ac.cy 						\n				\n				\n				\n			Ομιλήτρια		\n				\n				\n						\n					\n			\n						\n				\n																										\n				\n					\n		\n				\n			\n						\n				\n							Η Κατερίνα Κακουλάκη είναι αδειούχος εκπαιδευτική/σχολική ψυχολόγος στην Κύπρο και την Ελλάδα\, με μεταπτυχιακό στην Εκπαιδευτική/Σχολική και Εφαρμοσμένη Παιδοψυχολογία από το Πανεπιστήμιο Κύπρου. Ειδικεύεται στην ψυχολογική υποστήριξη παιδιών\, εφήβων και οικογενειών\, χρησιμοποιώντας προσεγγίσεις όπως η συστημική\, η CBT\, η ACT και η παιγνιοθεραπεία. Έχει εργαστεί σε διάφορους οργανισμούς και έχει ολοκληρώσει πρακτική στο Υπουργείο Παιδείας\, παρέχοντας υπηρεσίες σε σχολεία. Τα ερευνητικά της ενδιαφέροντα περιλαμβάνουν τη διαχείριση διατροφικών διαταραχών και την ψυχολογική ευελιξία. Διαθέτει εξειδίκευση σε τομείς όπως η ΔΕΠΥ\, οι μαθησιακές δυσκολίες\, το αυτιστικό φάσμα\, το άγχος και η κατάθλιψη. Διαβάστε περισσότερα
URL:https://www.altiusmindinstitute.com/event/webinar-i-mitrotita-noris-anilikes-miteres-dikaiomata-therapeia-stiriksi/
LOCATION:Online via ZOOM
ATTACH;FMTTYPE=image/png:https://www.altiusmindinstitute.com/wp-content/uploads/2024/11/i-mitrotita-noris-webinar.png
END:VEVENT
BEGIN:VEVENT
DTSTART;TZID=UTC:20260321T080000
DTEND;TZID=UTC:20260321T170000
DTSTAMP:20260423T063313
CREATED:20260305T145831Z
LAST-MODIFIED:20260312T072052Z
UID:9301-1774080000-1774112400@www.altiusmindinstitute.com
SUMMARY:ΤΟ ΤΑΞΙΔΙ ΤΗΣ ΜΗΤΡΟΤΗΤΑΣ: Η ΨΥΧΟΛΟΓΙΚΗ ΕΜΠΕΙΡΙΑ ΤΗΣ ΓΥΝΑΙΚΑΣ
DESCRIPTION:ΣΕΜΙΝΑΡΙΟ ΠΡΩΤΩΝ ΒΟΗΘΕΙΩΝ ΨΥΧΙΚΗΣ ΥΓΕΙΑΣ		\n				\n				\n				\n			«Δείξε Κατανόηση\, Πρόσφερε Στήριξη\, Ενίσχυσε την Ανθεκτικότητα»		\n				\n				\n				\n							Το Altius Mind Institute σε συνεργασία με τον Όμιλο Ψυχολογίας του Πανεπιστημίου Κύπρου διοργανώνει σεμινάριο με θέμα «Πρώτες Βοήθειες Ψυχικής Υγείας» την Δευτέρα 18/11/2024 και ώρα 20:30-22:30 στο Πανεπιστήμιο Κύπρου. Μάθε πώς οι Πρώτες Βοήθειες Ψυχικής Υγείας μπορούν να σε βοηθήσουν να προσφέρεις ουσιαστική στήριξη σε δύσκολες στιγμές\, ενδυναμώνοντας όσους το έχουν ανάγκη. 						\n				\n				\n				\n			Πληροφορίες		\n				\n				\n				\n							Τοποθεσία: Πανεπιστήμιο Κύπρου Ημερομηνία: 18/11/2024 στις 20:30 Διάρκεια: 2 ώρες Κόστος συμμετοχής: Δωρεάν Για δήλωση συμμετοχής\, στείλτε email στο psyclub@ucy.ac.cy 						\n				\n				\n				\n			Ομιλήτρια		\n				\n				\n						\n					\n			\n						\n				\n																										\n				\n					\n		\n				\n			\n						\n				\n							Η Κατερίνα Κακουλάκη είναι αδειούχος εκπαιδευτική/σχολική ψυχολόγος στην Κύπρο και την Ελλάδα\, με μεταπτυχιακό στην Εκπαιδευτική/Σχολική και Εφαρμοσμένη Παιδοψυχολογία από το Πανεπιστήμιο Κύπρου. Ειδικεύεται στην ψυχολογική υποστήριξη παιδιών\, εφήβων και οικογενειών\, χρησιμοποιώντας προσεγγίσεις όπως η συστημική\, η CBT\, η ACT και η παιγνιοθεραπεία. Έχει εργαστεί σε διάφορους οργανισμούς και έχει ολοκληρώσει πρακτική στο Υπουργείο Παιδείας\, παρέχοντας υπηρεσίες σε σχολεία. Τα ερευνητικά της ενδιαφέροντα περιλαμβάνουν τη διαχείριση διατροφικών διαταραχών και την ψυχολογική ευελιξία. Διαθέτει εξειδίκευση σε τομείς όπως η ΔΕΠΥ\, οι μαθησιακές δυσκολίες\, το αυτιστικό φάσμα\, το άγχος και η κατάθλιψη. Διαβάστε περισσότερα
URL:https://www.altiusmindinstitute.com/event/to-taksidi-tis-mitrotitas-h-psixologiki-empiria-tis-ginekas/
ATTACH;FMTTYPE=image/png:https://www.altiusmindinstitute.com/wp-content/uploads/2026/01/Women-support-group-Ενδομητρίωση@2x.png
END:VEVENT
BEGIN:VEVENT
DTSTART;TZID=Europe/Athens:20260418T110000
DTEND;TZID=Europe/Athens:20260418T123000
DTSTAMP:20260423T063313
CREATED:20260129T135405Z
LAST-MODIFIED:20260219T071915Z
UID:9242-1776510000-1776515400@www.altiusmindinstitute.com
SUMMARY:ΕΝΔΟΜΗΤΡΙΩΣΗ ΟΜΑΔΑ ΥΠΟΣΤΗΡΙΞΗΣ
DESCRIPTION:ΣΕΜΙΝΑΡΙΟ ΠΡΩΤΩΝ ΒΟΗΘΕΙΩΝ ΨΥΧΙΚΗΣ ΥΓΕΙΑΣ		\n				\n				\n				\n			«Δείξε Κατανόηση\, Πρόσφερε Στήριξη\, Ενίσχυσε την Ανθεκτικότητα»		\n				\n				\n				\n							Το Altius Mind Institute σε συνεργασία με τον Όμιλο Ψυχολογίας του Πανεπιστημίου Κύπρου διοργανώνει σεμινάριο με θέμα «Πρώτες Βοήθειες Ψυχικής Υγείας» την Δευτέρα 18/11/2024 και ώρα 20:30-22:30 στο Πανεπιστήμιο Κύπρου. Μάθε πώς οι Πρώτες Βοήθειες Ψυχικής Υγείας μπορούν να σε βοηθήσουν να προσφέρεις ουσιαστική στήριξη σε δύσκολες στιγμές\, ενδυναμώνοντας όσους το έχουν ανάγκη. 						\n				\n				\n				\n			Πληροφορίες		\n				\n				\n				\n							Τοποθεσία: Πανεπιστήμιο Κύπρου Ημερομηνία: 18/11/2024 στις 20:30 Διάρκεια: 2 ώρες Κόστος συμμετοχής: Δωρεάν Για δήλωση συμμετοχής\, στείλτε email στο psyclub@ucy.ac.cy 						\n				\n				\n				\n			Ομιλήτρια		\n				\n				\n						\n					\n			\n						\n				\n																										\n				\n					\n		\n				\n			\n						\n				\n							Η Κατερίνα Κακουλάκη είναι αδειούχος εκπαιδευτική/σχολική ψυχολόγος στην Κύπρο και την Ελλάδα\, με μεταπτυχιακό στην Εκπαιδευτική/Σχολική και Εφαρμοσμένη Παιδοψυχολογία από το Πανεπιστήμιο Κύπρου. Ειδικεύεται στην ψυχολογική υποστήριξη παιδιών\, εφήβων και οικογενειών\, χρησιμοποιώντας προσεγγίσεις όπως η συστημική\, η CBT\, η ACT και η παιγνιοθεραπεία. Έχει εργαστεί σε διάφορους οργανισμούς και έχει ολοκληρώσει πρακτική στο Υπουργείο Παιδείας\, παρέχοντας υπηρεσίες σε σχολεία. Τα ερευνητικά της ενδιαφέροντα περιλαμβάνουν τη διαχείριση διατροφικών διαταραχών και την ψυχολογική ευελιξία. Διαθέτει εξειδίκευση σε τομείς όπως η ΔΕΠΥ\, οι μαθησιακές δυσκολίες\, το αυτιστικό φάσμα\, το άγχος και η κατάθλιψη. Διαβάστε περισσότερα
URL:https://www.altiusmindinstitute.com/event/endomitriosi-omada-ipostiriksis/
ATTACH;FMTTYPE=image/png:https://www.altiusmindinstitute.com/wp-content/uploads/2026/01/Women-support-group-Ενδομητρίωση@2x.png
END:VEVENT
BEGIN:VEVENT
DTSTART;TZID=Europe/Athens:20260831T180000
DTEND;TZID=Europe/Athens:20260831T190000
DTSTAMP:20260423T063313
CREATED:20250814T095419Z
LAST-MODIFIED:20260409T071607Z
UID:8783-1788199200-1788202800@www.altiusmindinstitute.com
SUMMARY:"ΜΑΘΑΙΝΟΝΤΑΣ ΝΑ ΖΟΥΜΕ ΜΕ ΤΗΝ ΑΠΩΛΕΙΑ" ΔΙΑΔΙΚΤΥΑΚΟ ΣΕΜΙΝΑΡΙΟ
DESCRIPTION:ΣΕΜΙΝΑΡΙΟ ΠΡΩΤΩΝ ΒΟΗΘΕΙΩΝ ΨΥΧΙΚΗΣ ΥΓΕΙΑΣ		\n				\n				\n				\n			«Δείξε Κατανόηση\, Πρόσφερε Στήριξη\, Ενίσχυσε την Ανθεκτικότητα»		\n				\n				\n				\n							Το Altius Mind Institute σε συνεργασία με τον Όμιλο Ψυχολογίας του Πανεπιστημίου Κύπρου διοργανώνει σεμινάριο με θέμα «Πρώτες Βοήθειες Ψυχικής Υγείας» την Δευτέρα 18/11/2024 και ώρα 20:30-22:30 στο Πανεπιστήμιο Κύπρου. Μάθε πώς οι Πρώτες Βοήθειες Ψυχικής Υγείας μπορούν να σε βοηθήσουν να προσφέρεις ουσιαστική στήριξη σε δύσκολες στιγμές\, ενδυναμώνοντας όσους το έχουν ανάγκη. 						\n				\n				\n				\n			Πληροφορίες		\n				\n				\n				\n							Τοποθεσία: Πανεπιστήμιο Κύπρου Ημερομηνία: 18/11/2024 στις 20:30 Διάρκεια: 2 ώρες Κόστος συμμετοχής: Δωρεάν Για δήλωση συμμετοχής\, στείλτε email στο psyclub@ucy.ac.cy 						\n				\n				\n				\n			Ομιλήτρια		\n				\n				\n						\n					\n			\n						\n				\n																										\n				\n					\n		\n				\n			\n						\n				\n							Η Κατερίνα Κακουλάκη είναι αδειούχος εκπαιδευτική/σχολική ψυχολόγος στην Κύπρο και την Ελλάδα\, με μεταπτυχιακό στην Εκπαιδευτική/Σχολική και Εφαρμοσμένη Παιδοψυχολογία από το Πανεπιστήμιο Κύπρου. Ειδικεύεται στην ψυχολογική υποστήριξη παιδιών\, εφήβων και οικογενειών\, χρησιμοποιώντας προσεγγίσεις όπως η συστημική\, η CBT\, η ACT και η παιγνιοθεραπεία. Έχει εργαστεί σε διάφορους οργανισμούς και έχει ολοκληρώσει πρακτική στο Υπουργείο Παιδείας\, παρέχοντας υπηρεσίες σε σχολεία. Τα ερευνητικά της ενδιαφέροντα περιλαμβάνουν τη διαχείριση διατροφικών διαταραχών και την ψυχολογική ευελιξία. Διαθέτει εξειδίκευση σε τομείς όπως η ΔΕΠΥ\, οι μαθησιακές δυσκολίες\, το αυτιστικό φάσμα\, το άγχος και η κατάθλιψη. Διαβάστε περισσότερα
URL:https://www.altiusmindinstitute.com/event/mathenontas-na-zoume-me-tin-apolia/
LOCATION:Online via ZOOM
ATTACH;FMTTYPE=image/png:https://www.altiusmindinstitute.com/wp-content/uploads/2025/08/Μαθαίνοντας-να-ζούμε-με-την-απώλεια@2x.png
END:VEVENT
END:VCALENDAR