BEGIN:VCALENDAR
VERSION:2.0
PRODID:-//Altius Mind Institute - ECPv6.11.0.1//NONSGML v1.0//EN
CALSCALE:GREGORIAN
METHOD:PUBLISH
X-WR-CALNAME:Altius Mind Institute
X-ORIGINAL-URL:https://www.altiusmindinstitute.com
X-WR-CALDESC:Events for Altius Mind Institute
REFRESH-INTERVAL;VALUE=DURATION:PT1H
X-Robots-Tag:noindex
X-PUBLISHED-TTL:PT1H
BEGIN:VTIMEZONE
TZID:Europe/Athens
BEGIN:DAYLIGHT
TZOFFSETFROM:+0200
TZOFFSETTO:+0300
TZNAME:EEST
DTSTART:20230326T010000
END:DAYLIGHT
BEGIN:STANDARD
TZOFFSETFROM:+0300
TZOFFSETTO:+0200
TZNAME:EET
DTSTART:20231029T010000
END:STANDARD
END:VTIMEZONE
BEGIN:VEVENT
DTSTART;TZID=Europe/Athens:20230426T180000
DTEND;TZID=Europe/Athens:20230426T200000
DTSTAMP:20260420T223753
CREATED:20230421T142836Z
LAST-MODIFIED:20240219T090050Z
UID:1753-1682532000-1682539200@www.altiusmindinstitute.com
SUMMARY:ΒΙΩΜΑΤΙΚΟ ΕΡΓΑΣΤΗΡΙ ΤΡΑΥΜΑ\, ΑΠΩΛΕΙΑ ΚΑΙ ΔΙΑΧΕΙΡΙΣΗ ΣΥΝΑΙΣΘΗΜΑΤΩΝ
DESCRIPTION:Πρώτο Βιωματικό Εργαστήρι Υποστήριξης Γονέων Παιδιών με Αναπηρία		\n				\n				\n				\n							Το Altius Mind Institute σε συνεργασία με το Πολυδύναμο Δημοτικό Κέντρο Λευκωσίας διοργανώνει μια σειρά από τέσσερα βιωματικά εργαστήρια υποστήριξης γονέων παιδιών με αναπηρία. Διαδραστική ενημερωτική διάλεξη και βιωματικό εργαστήρι όπου οι γονείς θα έχουν την ευκαιρία να εκφράσουν και να μοιραστούν τις εμπειρίες τους. 						\n				\n				\n				\n			Γιατί να το παρακολουθήσω;		\n				\n				\n				\n							Στόχοι βιωματικού εργαστηρίου: Διαχείριση και αποδοχή της κατάστασης του παιδιούΔιαχείριση και αποδοχή συναισθημάτων των γονέωνΕνδυνάμωση γονεϊκού ρόλουΕντοπισμός προκαταλήψεων/ δυσκολιών και ανακατασκευή πραγματικότηταςΑντιμετώπιση πρακτικών και μη ζητημάτωνΡεαλιστικές προσδοκίες για το παιδί και την οικογένειαΨυχική ανθεκτικότητα και προσαρμοστικότητα						\n				\n				\n				\n			Ψυχολόγος		\n				\n				\n						\n					\n			\n						\n				\n																										\n				\n					\n		\n				\n			\n						\n				\n							Η Κατερίνα Κακουλάκη είναι αδειούχα εκπαιδευτική/σχολική ψυχολόγος στην Κύπρο και την Ελλάδα και εκπαιδεύεται επίσης για να γίνει πιστοποιημένη συστημική/οικογενειακή ψυχοθεραπεύτρια. Κατά τη διάρκεια των πτυχιακών της σπουδών στην ψυχολογία στο Πανεπιστήμιο Λευκωσίας\, έκανε πρακτική άσκηση στο Κέντρο Ψυχικής Υγείας Ρεθύμνου στην Κρήτη\, στο Πρόγραμμα Καθοδήγησης Νέων «Mentor» και στο “Hope for Children” CRC Policy Center. Απέκτησε το μεταπτυχιακό της στην Εκπαιδευτική/Σχολική Ψυχολογία (Εφαρμοσμένη Παιδοψυχολογία) από το Πανεπιστήμιο Κύπρου. Ολοκλήρωσε την εποπτευόμενη κλινική της πρακτική στο Τμήμα Εκπαιδευτικής Ψυχολογίας του Υπουργείου Παιδείας\, Αθλητισμού και Νεολαίας\, όπου παρείχε υπηρεσίες ψυχικής υγείας σε σχολεία και εκπαιδεύτηκε στη χρήση διεθνώς πιστοποιημένων ψυχομετρικών εργαλείων (WISC-V\, WPPSI-III\, Raven’s Matrices\, ASEBA). Επιπλέον\, εκπαιδεύτηκε στη θεραπεία αποδοχής και δέσμευσης (ACT) καθώς και στην αξιολόγηση χαρισματικών παιδιών. Η ερευνητική της διατριβή κατά τη διάρκεια των μεταπτυχιακών της σπουδών εξέτασε πώς η ψυχολογική ευελιξία χρησιμεύει ως μεσολαβητής για την αποδοχή της εικόνας του σώματος σε μια έγκαιρη παρέμβαση εικονικής πραγματικότητας για νεαρές γυναίκες υψηλού ρίσκου για διατροφικές διαταραχές. Εργάζεται με παιδιά\, εφήβους και γονείς/οικογένειες\, χρησιμοποιώντας ποικίλες προσεγγίσεις (Προσωποκεντρική\, Συστημική\, Γνωστική Συμπεριφορική Ψυχοθεραπεία (CBT)\, Θεραπεία Αποδοχής και Δέσμευσης (ACT)\, Υπαρξιακή\, Εστιασμένη στη Λύση Βραχεία Ψυχοθεραπεία\, Θετική Ψυχολογία). Μερικοί ενδεικτικοί τομείς της εκπαίδευσης και της εξειδίκευσής της είναι: Διαταραχή Ελλειμματικής Προσοχής και Υπερκινητικότητας (ΔΕΠΥ)\, μαθησιακές και γλωσσικές δυσκολίες\, φάσμα αυτισμού\, παιγνιοθεραπεία\, παιδικό τραύμα\, κρίσεις άγχους/πανικού\, κατάθλιψη/άγχος/διαταραχές διάθεσης\, προσκόλληση\, ζητήματα ορίων/πειθαρχίας\, ψυχική ανθεκτικότητα\, αυτοεκτίμηση\, συμβουλευτική γονέων\, πολυπολιτισμικότητα\, σχολική προσαρμογή και αποτελεσματική επικοινωνία. 						\n				\n					\n		\n					\n		\n				\n				\n			Πληροφορίες		\n				\n				\n				\n							Τοποθεσία: Solidarity Network Nicosia in Action-NicInAct (Χρυσαλινιωτίσσης 30-32 Λευκωσία\, 1017) Ημερομηνία: 06/02/2024 στις 18:00-20:00 Διάρκεια: 2 ώρες Κόστος συμμετοχής: ΔΩΡΕΑΝ 						\n				\n				\n				\n							Για εγγραφή: 22797870\, 99779888
URL:https://www.altiusmindinstitute.com/event/viomatiko-ergastiri-trauma-apoleia-kai-diaxirisi-sinaisthimaton/
LOCATION:Solidarity Network Nicosia in Action-NicInAct\, Χρυσαλινιωτίσσης 30-32\, Λευκωσία\, 1017\, Cyprus
ATTACH;FMTTYPE=image/jpeg:https://www.altiusmindinstitute.com/wp-content/uploads/2023/04/βιωματικό-εργαστήρι-26-4.jpeg
END:VEVENT
BEGIN:VEVENT
DTSTART;TZID=Europe/Athens:20230404T183000
DTEND;TZID=Europe/Athens:20230404T193000
DTSTAMP:20260420T223753
CREATED:20230421T151645Z
LAST-MODIFIED:20240219T090128Z
UID:1762-1680633000-1680636600@www.altiusmindinstitute.com
SUMMARY:ΣΕΜΙΝΑΡΙΟ ΔΕΠΥ ΓΙΑ ΓΟΝΕΙΣ ΚΑΙ ΕΚΠΑΙΔΕΥΤΙΚΟΥΣ
DESCRIPTION:Πρώτο Βιωματικό Εργαστήρι Υποστήριξης Γονέων Παιδιών με Αναπηρία		\n				\n				\n				\n							Το Altius Mind Institute σε συνεργασία με το Πολυδύναμο Δημοτικό Κέντρο Λευκωσίας διοργανώνει μια σειρά από τέσσερα βιωματικά εργαστήρια υποστήριξης γονέων παιδιών με αναπηρία. Διαδραστική ενημερωτική διάλεξη και βιωματικό εργαστήρι όπου οι γονείς θα έχουν την ευκαιρία να εκφράσουν και να μοιραστούν τις εμπειρίες τους. 						\n				\n				\n				\n			Γιατί να το παρακολουθήσω;		\n				\n				\n				\n							Στόχοι βιωματικού εργαστηρίου: Διαχείριση και αποδοχή της κατάστασης του παιδιούΔιαχείριση και αποδοχή συναισθημάτων των γονέωνΕνδυνάμωση γονεϊκού ρόλουΕντοπισμός προκαταλήψεων/ δυσκολιών και ανακατασκευή πραγματικότηταςΑντιμετώπιση πρακτικών και μη ζητημάτωνΡεαλιστικές προσδοκίες για το παιδί και την οικογένειαΨυχική ανθεκτικότητα και προσαρμοστικότητα						\n				\n				\n				\n			Ψυχολόγος		\n				\n				\n						\n					\n			\n						\n				\n																										\n				\n					\n		\n				\n			\n						\n				\n							Η Κατερίνα Κακουλάκη είναι αδειούχα εκπαιδευτική/σχολική ψυχολόγος στην Κύπρο και την Ελλάδα και εκπαιδεύεται επίσης για να γίνει πιστοποιημένη συστημική/οικογενειακή ψυχοθεραπεύτρια. Κατά τη διάρκεια των πτυχιακών της σπουδών στην ψυχολογία στο Πανεπιστήμιο Λευκωσίας\, έκανε πρακτική άσκηση στο Κέντρο Ψυχικής Υγείας Ρεθύμνου στην Κρήτη\, στο Πρόγραμμα Καθοδήγησης Νέων «Mentor» και στο “Hope for Children” CRC Policy Center. Απέκτησε το μεταπτυχιακό της στην Εκπαιδευτική/Σχολική Ψυχολογία (Εφαρμοσμένη Παιδοψυχολογία) από το Πανεπιστήμιο Κύπρου. Ολοκλήρωσε την εποπτευόμενη κλινική της πρακτική στο Τμήμα Εκπαιδευτικής Ψυχολογίας του Υπουργείου Παιδείας\, Αθλητισμού και Νεολαίας\, όπου παρείχε υπηρεσίες ψυχικής υγείας σε σχολεία και εκπαιδεύτηκε στη χρήση διεθνώς πιστοποιημένων ψυχομετρικών εργαλείων (WISC-V\, WPPSI-III\, Raven’s Matrices\, ASEBA). Επιπλέον\, εκπαιδεύτηκε στη θεραπεία αποδοχής και δέσμευσης (ACT) καθώς και στην αξιολόγηση χαρισματικών παιδιών. Η ερευνητική της διατριβή κατά τη διάρκεια των μεταπτυχιακών της σπουδών εξέτασε πώς η ψυχολογική ευελιξία χρησιμεύει ως μεσολαβητής για την αποδοχή της εικόνας του σώματος σε μια έγκαιρη παρέμβαση εικονικής πραγματικότητας για νεαρές γυναίκες υψηλού ρίσκου για διατροφικές διαταραχές. Εργάζεται με παιδιά\, εφήβους και γονείς/οικογένειες\, χρησιμοποιώντας ποικίλες προσεγγίσεις (Προσωποκεντρική\, Συστημική\, Γνωστική Συμπεριφορική Ψυχοθεραπεία (CBT)\, Θεραπεία Αποδοχής και Δέσμευσης (ACT)\, Υπαρξιακή\, Εστιασμένη στη Λύση Βραχεία Ψυχοθεραπεία\, Θετική Ψυχολογία). Μερικοί ενδεικτικοί τομείς της εκπαίδευσης και της εξειδίκευσής της είναι: Διαταραχή Ελλειμματικής Προσοχής και Υπερκινητικότητας (ΔΕΠΥ)\, μαθησιακές και γλωσσικές δυσκολίες\, φάσμα αυτισμού\, παιγνιοθεραπεία\, παιδικό τραύμα\, κρίσεις άγχους/πανικού\, κατάθλιψη/άγχος/διαταραχές διάθεσης\, προσκόλληση\, ζητήματα ορίων/πειθαρχίας\, ψυχική ανθεκτικότητα\, αυτοεκτίμηση\, συμβουλευτική γονέων\, πολυπολιτισμικότητα\, σχολική προσαρμογή και αποτελεσματική επικοινωνία. 						\n				\n					\n		\n					\n		\n				\n				\n			Πληροφορίες		\n				\n				\n				\n							Τοποθεσία: Solidarity Network Nicosia in Action-NicInAct (Χρυσαλινιωτίσσης 30-32 Λευκωσία\, 1017) Ημερομηνία: 06/02/2024 στις 18:00-20:00 Διάρκεια: 2 ώρες Κόστος συμμετοχής: ΔΩΡΕΑΝ 						\n				\n				\n				\n							Για εγγραφή: 22797870\, 99779888
URL:https://www.altiusmindinstitute.com/event/seminario-depy-gia-goneis-kai-ekpaideutikous/
LOCATION:ΔΗΜΟΤΙΚΟ ΣΧΟΛΕΙΟ ΑΓΙΟΥ ΝΕΟΦΥΤΟΥ\, Cyprus
ATTACH;FMTTYPE=image/jpeg:https://www.altiusmindinstitute.com/wp-content/uploads/2023/04/ΣΕΜΙΝΑΡΙΟ-ΔΕΠΥ-4-4-23.jpg
END:VEVENT
END:VCALENDAR